BEGIN:VCALENDAR
VERSION:2.0
PRODID:-//Ayuntamiento Carcastillo - ECPv6.15.15//NONSGML v1.0//EN
CALSCALE:GREGORIAN
METHOD:PUBLISH
X-ORIGINAL-URL:https://www.carcastillo.es
X-WR-CALDESC:Eventos para Ayuntamiento Carcastillo
REFRESH-INTERVAL;VALUE=DURATION:PT1H
X-Robots-Tag:noindex
X-PUBLISHED-TTL:PT1H
BEGIN:VTIMEZONE
TZID:Europe/Paris
BEGIN:DAYLIGHT
TZOFFSETFROM:+0100
TZOFFSETTO:+0200
TZNAME:CEST
DTSTART:20190331T010000
END:DAYLIGHT
BEGIN:STANDARD
TZOFFSETFROM:+0200
TZOFFSETTO:+0100
TZNAME:CET
DTSTART:20191027T010000
END:STANDARD
BEGIN:DAYLIGHT
TZOFFSETFROM:+0100
TZOFFSETTO:+0200
TZNAME:CEST
DTSTART:20200329T010000
END:DAYLIGHT
BEGIN:STANDARD
TZOFFSETFROM:+0200
TZOFFSETTO:+0100
TZNAME:CET
DTSTART:20201025T010000
END:STANDARD
BEGIN:DAYLIGHT
TZOFFSETFROM:+0100
TZOFFSETTO:+0200
TZNAME:CEST
DTSTART:20210328T010000
END:DAYLIGHT
BEGIN:STANDARD
TZOFFSETFROM:+0200
TZOFFSETTO:+0100
TZNAME:CET
DTSTART:20211031T010000
END:STANDARD
END:VTIMEZONE
BEGIN:VEVENT
DTSTART;TZID=Europe/Paris:20200105T183000
DTEND;TZID=Europe/Paris:20200105T183000
DTSTAMP:20260421T031209
CREATED:20191219T115041Z
LAST-MODIFIED:20200103T102441Z
UID:4962-1578249000-1578249000@www.carcastillo.es
SUMMARY:Cabalgata de los Reyes Magos
DESCRIPTION:
URL:https://www.carcastillo.es/agenda/cabalgata-de-los-reyes-magos/
LOCATION:Navarra
ATTACH;FMTTYPE=image/png:https://st1.carcastillo.es/media/2019/12/Cabalgata.png
END:VEVENT
BEGIN:VEVENT
DTSTART;TZID=Europe/Paris:20200222T180000
DTEND;TZID=Europe/Paris:20200222T180000
DTSTAMP:20260421T031209
CREATED:20200205T112217Z
LAST-MODIFIED:20200205T112217Z
UID:5121-1582394400-1582394400@www.carcastillo.es
SUMMARY:Carnaval 2020
DESCRIPTION:Concentración de disfraces y carrozas en la antigua gasolinera\, y posterior desfile hasta la plaza\, donde se anunciarán los ganadores. \nInscripciones en el Ayuntamiento hasta el 19 de febrero. \nPremios \n\nInfantiles (hasta 16 años)\n\nmerienda para el grupo\nmerienda para el grupo\nmerienda para el grupo\n\n\nMejor carroza\n\n300 euros\n200 euros\n\n\nMejor grupo\n\n300 euros\n200 euros\n\n\nOriginalidad: 150 € – otorgado por Asociación juvenil Zarrogaztelu
URL:https://www.carcastillo.es/agenda/carnaval-2020/
LOCATION:Navarra
CATEGORIES:Fiestas
ATTACH;FMTTYPE=image/png:https://st1.carcastillo.es/media/2020/02/Carnaval_2020.png
ORGANIZER;CN="Ayuntamiento de Carcastillo":MAILTO:info@carcastillo.es
END:VEVENT
BEGIN:VEVENT
DTSTART;TZID=Europe/Paris:20200225T180000
DTEND;TZID=Europe/Paris:20200225T180000
DTSTAMP:20260421T031209
CREATED:20200205T112300Z
LAST-MODIFIED:20200205T112300Z
UID:5124-1582653600-1582653600@www.carcastillo.es
SUMMARY:Entierro de la sardina 2020
DESCRIPTION:Salida desde el cruce acompañando al séquito y llegada a la plaza\, donde se realizará la quema de la sardina. \nA continuación\, habrá chocolate con churros para los pequeños. \n  \n 
URL:https://www.carcastillo.es/agenda/entierro-de-la-sardina-2020/
LOCATION:Navarra
ATTACH;FMTTYPE=image/png:https://st1.carcastillo.es/media/2020/02/Carnaval_2020.png
END:VEVENT
BEGIN:VEVENT
DTSTART;TZID=Europe/Paris:20200229T180000
DTEND;TZID=Europe/Paris:20200229T180000
DTSTAMP:20260421T031209
CREATED:20200221T132211Z
LAST-MODIFIED:20200221T132211Z
UID:5179-1582999200-1582999200@www.carcastillo.es
SUMMARY:Festival de pelota mano
DESCRIPTION:
URL:https://www.carcastillo.es/agenda/festival-de-pelota-mano/
LOCATION:Navarra
END:VEVENT
BEGIN:VEVENT
DTSTART;TZID=Europe/Paris:20200307T190000
DTEND;TZID=Europe/Paris:20200307T190000
DTSTAMP:20260421T031209
CREATED:20200303T122353Z
LAST-MODIFIED:20200303T122454Z
UID:5235-1583607600-1583607600@www.carcastillo.es
SUMMARY:Conmemoración 8M
DESCRIPTION:
URL:https://www.carcastillo.es/agenda/conmemoracion-8m/
LOCATION:Cine municipal\, Carretera\, 24\, Carcastillo\, Navarra\, 31310\, España
ATTACH;FMTTYPE=image/png:https://st1.carcastillo.es/media/2020/03/8M-Sara-Brun.png
END:VEVENT
END:VCALENDAR